BEGIN:VCALENDAR
VERSION:2.0
PRODID:spatie/icalendar-generator
DESCRIPTION:Events from Wood Islands Market
X-WR-CALDESC:Events from Wood Islands Market
REFRESH-INTERVAL;VALUE=DURATION:PT1440M
X-PUBLISHED-TTL:PT1440M
BEGIN:VTIMEZONE
TZID:America/Halifax
BEGIN:STANDARD
DTSTART:20221106T020000Z
TZOFFSETFROM:-0300
TZOFFSETTO:-0400
END:STANDARD
BEGIN:DAYLIGHT
DTSTART:20230312T020000Z
TZOFFSETFROM:-0400
TZOFFSETTO:-0300
END:DAYLIGHT
BEGIN:STANDARD
DTSTART:20231105T020000Z
TZOFFSETFROM:-0300
TZOFFSETTO:-0400
END:STANDARD
END:VTIMEZONE
BEGIN:VTIMEZONE
TZID:UTC
BEGIN:STANDARD
DTSTART:20250727T100249Z
TZOFFSETFROM:+0000
TZOFFSETTO:+0000
END:STANDARD
END:VTIMEZONE
BEGIN:VEVENT
UID:2-2
DTSTAMP:20260423T100249Z
SUMMARY:Farmer's Market in the Gazebo
LOCATION:
ORGANIZER;CN=Executive Director:MAILTO:admin@woodislands.ca
RRULE:FREQ=WEEKLY;UNTIL=20230928T000000Z
DTSTART;TZID=America/Halifax:20230622T100000
DTEND;TZID=America/Halifax:20230622T140000
X-ALT-DESC;FMTTYPE=TEXT/HTML:Local vendors
CATEGORIES:General
URL;VALUE=URI:https://woodislands.ca/mc-events/farmers-market-in-the-gazebo
 /?mc_id=2
METHOD:PUBLISH
END:VEVENT
END:VCALENDAR